BEGIN:VCALENDAR
VERSION:2.0
BEGIN:VEVENT
STATUS:TENTATIVE
DTSTART:20180314T150000Z
DTEND:20180314T180000Z
SUMMARY:Jornada sobre el delito fiscal
LOCATION:Ilustre Colegio de la Abogacía de Bizkaia Rampas de Uribitarte, 3 Bilbao 
DESCRIPTION:Jornada. 
END:VEVENT
END:VCALENDAR
