BEGIN:VCALENDAR
VERSION:2.0
BEGIN:VEVENT
STATUS:TENTATIVE
DTSTART:20180319T150000Z
DTEND:20180319T190000Z
SUMMARY:Jornada de actualización tributaria en el IRPF
LOCATION:Salón de Grados Facultad de Ciencias Sociales.  Edificio Gil de Albornoz  Avda. de los Alfares, 44 
DESCRIPTION:Jornada. Ponente: Oscar García Sagres,Técnico de Hacienda del Estado. Dependencia Regional de Inspección de Valencia.
END:VEVENT
END:VCALENDAR
