BEGIN:VCALENDAR
VERSION:2.0
BEGIN:VEVENT
STATUS:TENTATIVE
DTSTART:20180321T153000Z
DTEND:20180321T173000Z
SUMMARY:Aspectos prácticos de la derivación de responsabilidad desde el punto de vista de la Hacienda Pública
LOCATION:Colegio de Abogados de Zaragoza C/ Don Jaime I, 18 Salón Decanato - Planta 2ª
DESCRIPTION:Jornada. 
END:VEVENT
END:VCALENDAR
