BEGIN:VCALENDAR
VERSION:2.0
BEGIN:VEVENT
STATUS:TENTATIVE
DTSTART:20180312T153000Z
DTEND:20180312T183000Z
SUMMARY:Jornada de estudio REPEP Y MODELO 720
LOCATION:Sede AEDAF Canarias C/ Rafael Nebot, 5 - 1º. Las Palmas de Gran Canaria
DESCRIPTION:Jornada. 
END:VEVENT
END:VCALENDAR
