BEGIN:VCALENDAR
VERSION:2.0
BEGIN:VEVENT
STATUS:TENTATIVE
DTSTART:20180308T150000Z
DTEND:20180308T180000Z
SUMMARY:Cuestiones de actualidad tributaria entre las Administraciones de Navarra y el Estado (AEAT / HTN)
LOCATION:Nuevo Casino Eslava   Plaza del Castillo, 16 (Pamplona)
DESCRIPTION:Jornada. 
END:VEVENT
END:VCALENDAR
