BEGIN:VCALENDAR
VERSION:2.0
BEGIN:VEVENT
STATUS:TENTATIVE
DTSTART:20180327T150000Z
DTEND:20180327T180000Z
SUMMARY:Seminario sobre procedimiento de las reclamaciones económico-administrativas
LOCATION:Ayre Hotel Astoria Palace Plaça de Rodrigo Botet, 5, 46002 València
DESCRIPTION:Jornada. 
END:VEVENT
END:VCALENDAR
