BEGIN:VCALENDAR
VERSION:2.0
BEGIN:VEVENT
STATUS:TENTATIVE
DTSTART:20180322T170000Z
DTEND:20180322T190000Z
SUMMARY:Limitaciones a los procedimientos de gestión
LOCATION:Facultad de Derecho, Universidad de Murcia (Campus de la Merced, calle Santo Cristo, 1, Murcia). Salón de Grados, en planta baja. Entrada por patio central
DESCRIPTION:Jornada. 
END:VEVENT
END:VCALENDAR
