BEGIN:VCALENDAR
VERSION:2.0
BEGIN:VEVENT
STATUS:TENTATIVE
DTSTART:20180410T160000Z
DTEND:20180410T180000Z
SUMMARY:La página web de la AEAT
LOCATION:NH Palacio de Castellanos
DESCRIPTION:Tertulia. 
END:VEVENT
END:VCALENDAR
