BEGIN:VCALENDAR
VERSION:2.0
BEGIN:VEVENT
STATUS:TENTATIVE
DTSTART:20180406T070000Z
DTEND:20180406T090000Z
SUMMARY:Exigencia a Terceros de la Deuda Tributaria
LOCATION:Hotel Bahía C/Cádiz, 22 Santander
DESCRIPTION:Jornada. 
END:VEVENT
END:VCALENDAR
