BEGIN:VCALENDAR
VERSION:2.0
BEGIN:VEVENT
STATUS:TENTATIVE
DTSTART:20180425T150000Z
DTEND:20180425T183000Z
SUMMARY:Novedades sustantivas y formales en el IRPF de la campaña 2017 y algunas novedades del reglamento de aplicación de los tributos
LOCATION:Salón de Actos del Colegio de Abogados de Sevilla. C/ Chapineros, 6
DESCRIPTION:Seminario. 
END:VEVENT
END:VCALENDAR
