BEGIN:VCALENDAR
VERSION:2.0
BEGIN:VEVENT
STATUS:TENTATIVE
DTSTART:20180509T093000Z
DTEND:20180509T190000Z
SUMMARY:XIV Congreso Tributario. Encuentro entre Magistrados y Asesores Fiscales
LOCATION:Ayuntamiento de León Salón de Actos Av. Ordoño II nº 10 (León)
DESCRIPTION:Jornada. 
END:VEVENT
END:VCALENDAR
