BEGIN:VCALENDAR
VERSION:2.0
BEGIN:VEVENT
STATUS:TENTATIVE
DTSTART:20180413T073000Z
DTEND:20180413T093000Z
SUMMARY:La legalización de libros y depósito de cuentas anuales en el Registro Mercantil. Novedades para la campaña 2018
LOCATION:SEDE AEDAF (c/ La Paz, 35 - Pta 4)
DESCRIPTION:Jornada. 
END:VEVENT
END:VCALENDAR
