BEGIN:VCALENDAR
VERSION:2.0
BEGIN:VEVENT
STATUS:TENTATIVE
DTSTART:20180411T143000Z
DTEND:20180411T163000Z
SUMMARY:La responsabilidad civil derivada del asesoramiento fiscal: Algunos ejemplos jurisprudenciales
LOCATION:Colegio de Abogados de Zaragoza C/ Don Jaime I,18 Salón Decanato - Planta 2ª
DESCRIPTION:Jornada. 
END:VEVENT
END:VCALENDAR
