BEGIN:VCALENDAR
VERSION:2.0
BEGIN:VEVENT
STATUS:TENTATIVE
DTSTART:20180409T140000Z
DTEND:20180409T170000Z
SUMMARY:Novedades Campaña IRPF 2017
LOCATION:Nuevo Casino Eslava Plaza del Castillo, 16(Pamplona)
DESCRIPTION:Jornada. 
END:VEVENT
END:VCALENDAR
