BEGIN:VCALENDAR
VERSION:2.0
BEGIN:VEVENT
STATUS:TENTATIVE
DTSTART:20180419T140000Z
DTEND:20180419T170000Z
SUMMARY:Campaña del Impuesto sobre la Renta de las Personas Físicas y Patrimonio 2017
LOCATION:Ilustre Colegio de la Abogacía de Bizkaia Rampas de Uribitarte, 3 Bilbao
DESCRIPTION:Jornada. 
END:VEVENT
END:VCALENDAR
