BEGIN:VCALENDAR
VERSION:2.0
BEGIN:VEVENT
STATUS:TENTATIVE
DTSTART:20180410T073000Z
DTEND:20180410T093000Z
SUMMARY:A vueltas con la retribución de los Administradores en sociedades no cotizadas tras la Sentencia del Tribunal Supremo de 26 de febrero de 2018
LOCATION:Sede Central (Claudio Coello, 106 6º dcha)
DESCRIPTION:Tertulia. 
END:VEVENT
END:VCALENDAR
