BEGIN:VCALENDAR
VERSION:2.0
BEGIN:VEVENT
STATUS:TENTATIVE
DTSTART:20180416T140000Z
DTEND:20180416T173000Z
SUMMARY:Campaña de IRPF 2017
LOCATION:Sede Central (Claudio Coello, 106 6º dcha)
DESCRIPTION:Jornada. Ponentes: Luis Muñiz García
END:VEVENT
END:VCALENDAR
