BEGIN:VCALENDAR
VERSION:2.0
BEGIN:VEVENT
STATUS:TENTATIVE
DTSTART:20180409T150000Z
DTEND:20180409T163000Z
SUMMARY:El fin de la controversia sobre el plazo de la materialización RIC en personas físicas. Resolución TEAC de 8 de febrero de 2018
LOCATION:Sede AEDAF C/Rafael Nebot, 5, Las Palmas de G.C.
DESCRIPTION:Jornada. 
END:VEVENT
END:VCALENDAR
