BEGIN:VCALENDAR
VERSION:2.0
BEGIN:VEVENT
STATUS:TENTATIVE
DTSTART:20180426T143000Z
DTEND:20180426T174500Z
SUMMARY:Jornadas de Estudio de Lanzarote
LOCATION:Hotel Costa Calero (Urb. Puerto Calero s/n - Lanzarote)
DESCRIPTION:Jornada. 
END:VEVENT
END:VCALENDAR
