BEGIN:VCALENDAR
VERSION:2.0
BEGIN:VEVENT
STATUS:TENTATIVE
DTSTART:20180514T143000Z
DTEND:20180514T183000Z
SUMMARY:Nuevos criterios para poder confeccionar cuentas anuales
LOCATION:Sede AEDAF c/ La Paz, 35 - Pta 4
DESCRIPTION:Jornada. 
END:VEVENT
END:VCALENDAR
