BEGIN:VCALENDAR
VERSION:2.0
BEGIN:VEVENT
STATUS:TENTATIVE
DTSTART:20180507T140000Z
DTEND:20180507T170000Z
SUMMARY:Notificación Electrónica en el ámbito de la Hacienda Tributaria de Navarra
LOCATION:Nuevo Casino Eslava. Plaza del Castillo, 16 (Pamplona)
DESCRIPTION:Jornada. 
END:VEVENT
END:VCALENDAR
