BEGIN:VCALENDAR
VERSION:2.0
BEGIN:VEVENT
STATUS:TENTATIVE
DTSTART:20180518T073000Z
DTEND:20180518T120000Z
SUMMARY:Actualización IRPF 2017
LOCATION:Bodega Museo Ontañón Avda. de Aragón, 3 Logroño 
DESCRIPTION:Jornada. 
END:VEVENT
END:VCALENDAR
