BEGIN:VCALENDAR
VERSION:2.0
BEGIN:VEVENT
STATUS:TENTATIVE
DTSTART:20180607T150000Z
DTEND:20180607T183000Z
SUMMARY:Impuesto sobre Sociedades 2017
LOCATION:Colegio de Abogados de Sevilla C/ Chapineros, 6  Salón de Actos
DESCRIPTION:Seminario. 
END:VEVENT
END:VCALENDAR
