BEGIN:VCALENDAR
VERSION:2.0
BEGIN:VEVENT
STATUS:TENTATIVE
DTSTART:20180518T073000Z
DTEND:20180518T163000Z
SUMMARY:Encuentro de Asociados de Castilla y León
LOCATION:Facultad de Dereco de la Universidad de Valladolid
DESCRIPTION:Jornada. 
END:VEVENT
END:VCALENDAR
