BEGIN:VCALENDAR
VERSION:2.0
BEGIN:VEVENT
STATUS:TENTATIVE
DTSTART:20181004T070000Z
DTEND:20181004T120000Z
SUMMARY:Fiscalidad de la economía colaborativa.
LOCATION:Edificio Cecabank · c/ Caballero de Gracia, 28-30
DESCRIPTION:Jornada. 
END:VEVENT
END:VCALENDAR
