BEGIN:VCALENDAR
VERSION:2.0
BEGIN:VEVENT
STATUS:TENTATIVE
DTSTART:20180514T150000Z
DTEND:20180514T170000Z
SUMMARY:Actualización IRPF
LOCATION:Sede AEDAF C/Rafael Nebot, 5, Las Palmas de G.C.
DESCRIPTION:Jornada. 
END:VEVENT
END:VCALENDAR
