BEGIN:VCALENDAR
VERSION:2.0
BEGIN:VEVENT
STATUS:TENTATIVE
DTSTART:20180528T150000Z
DTEND:20180528T170000Z
SUMMARY:Actualización Impuesto sobre Sociedades
LOCATION:Sede AEDAF C/Rafael Nebot, 5, Las Palmas de G.C.
DESCRIPTION:Jornada. 
END:VEVENT
END:VCALENDAR
