BEGIN:VCALENDAR
VERSION:2.0
BEGIN:VEVENT
STATUS:TENTATIVE
DTSTART:20180613T143000Z
DTEND:20180613T173000Z
SUMMARY:CONFLICTOS EN LA APLICACIÓN DEL ISD: DIFERENCIAS TERRITORIALES Y DESIGUALDAD DE TRATO DE NO RESIDENTES
LOCATION:Sede Central (Claudio Coello, 106 6º dcha)
DESCRIPTION:Jornada. 
END:VEVENT
END:VCALENDAR
