BEGIN:VCALENDAR
VERSION:2.0
BEGIN:VEVENT
STATUS:TENTATIVE
DTSTART:20180612T150000Z
DTEND:20180612T180000Z
SUMMARY:Responsabilidad en el ámbito tributario: Responsabilidad solidaria y subsidiaria.
LOCATION:Facultad de Derecho, Universidad de Murcia (Campus de la Merced, calle Santo Cristo, 1, Murcia). Salón de Grados, en planta baja. Entrada por patio central.
DESCRIPTION:Jornada. 
END:VEVENT
END:VCALENDAR
