BEGIN:VCALENDAR
VERSION:2.0
BEGIN:VEVENT
STATUS:TENTATIVE
DTSTART:20180704T140000Z
DTEND:20180704T170000Z
SUMMARY:Campaña IS 2017
LOCATION:Sede Central (Claudio Coello, 106 6º dcha)
DESCRIPTION:Jornada. Ponentes: Antonio Barba de Alba y Jose Ángel Arriaga, Cuatrecasas Gonçalves Pereira.
END:VEVENT
END:VCALENDAR
