BEGIN:VCALENDAR
VERSION:2.0
BEGIN:VEVENT
STATUS:TENTATIVE
DTSTART:20181018T140000Z
DTEND:20181018T173000Z
SUMMARY:Jornada tributación entidades en territorio común y foral
LOCATION:Sede Central (Claudio Coello, 106 6º dcha)
DESCRIPTION:Jornada. Ponentes: Eneko Rufino y Gorca Alonso. Miembros de la AEDAF
END:VEVENT
END:VCALENDAR
