BEGIN:VCALENDAR
VERSION:2.0
BEGIN:VEVENT
STATUS:TENTATIVE
DTSTART:20180705T093000Z
DTEND:20180705T193000Z
SUMMARY:Jornada tributaria Ponferrada 2018
LOCATION:Hotel AC Ponferrada. Avda. Astorga nº 2
DESCRIPTION:Jornada. 
END:VEVENT
END:VCALENDAR
