BEGIN:VCALENDAR
VERSION:2.0
BEGIN:VEVENT
STATUS:TENTATIVE
DTSTART:20180711T160000Z
DTEND:20180711T173000Z
SUMMARY:Sesión cuentas anuales: Identificación titular real de la sociedad
LOCATION:Conferencia por videostreaming
DESCRIPTION:Jornada. 
END:VEVENT
END:VCALENDAR
