BEGIN:VCALENDAR
VERSION:2.0
BEGIN:VEVENT
STATUS:TENTATIVE
DTSTART:20180719T160000Z
DTEND:20180719T180000Z
SUMMARY:Tertulia Fiscal
LOCATION:Sede del Colegio de Economistas  de Cantabria. sede del Colegio de Economistas  de Cantabria. Pasaje de Peña 2, 3ª planta
DESCRIPTION:Jornada. 
END:VEVENT
END:VCALENDAR
