BEGIN:VCALENDAR
VERSION:2.0
BEGIN:VEVENT
STATUS:TENTATIVE
DTSTART:20180918T141500Z
DTEND:20180918T180000Z
SUMMARY:Seminario de tributación consolidada
LOCATION:Sede D.T. Valencia-Castellón c/ La Paz, 35 - Pta 4
DESCRIPTION:Seminario. 
END:VEVENT
END:VCALENDAR
