BEGIN:VCALENDAR
VERSION:2.0
BEGIN:VEVENT
STATUS:TENTATIVE
DTSTART:20180928T143000Z
DTEND:20180928T173000Z
SUMMARY:Últimas Modificaciones normativas en el Impuesto sobre sucesiones y donaciones aplicable en Aragón
LOCATION:Colegio de Abogados de Zaragoza C/ Don Jaime I, 18 Salón Carlos Carnicer, Planta calle
DESCRIPTION:Jornada. 
END:VEVENT
END:VCALENDAR
