BEGIN:VCALENDAR
VERSION:2.0
BEGIN:VEVENT
STATUS:TENTATIVE
DTSTART:20181003T140000Z
DTEND:20181003T170000Z
SUMMARY:El IIVTNU: idas y venidas en los criterios de interpretación y efectos tras su declaración de inconstitucionalidad
LOCATION:Nuevo Casino Eslava. Plaza del Castillo, 16(Pamplona)
DESCRIPTION:Jornada. 
END:VEVENT
END:VCALENDAR
