BEGIN:VCALENDAR
VERSION:2.0
BEGIN:VEVENT
STATUS:TENTATIVE
DTSTART:20181114T153000Z
DTEND:20181114T190000Z
SUMMARY:Derivación de responsabilidad y medidas cautelares en procedimientos de comprobación
LOCATION:HOTEL AYRE ASTORIA PALACE, Pl. Rodrigo Botet, 5 (Sala Ballesteros)
DESCRIPTION:Jornada. 
END:VEVENT
END:VCALENDAR
