BEGIN:VCALENDAR
VERSION:2.0
BEGIN:VEVENT
STATUS:TENTATIVE
DTSTART:20181002T100000Z
DTEND:20181002T120000Z
SUMMARY:Medios de impugnación de las ponencias de valores y de los valores catastrales al hilo de las notificaciones recibidas en Murcia
LOCATION:Facultad de Derecho, Universidad de Murcia (Campus de la Merced, calle Santo Cristo, 1, Murcia). Salón de Grados, en planta baja. Entrada por patio central
DESCRIPTION:Jornada. 
END:VEVENT
END:VCALENDAR
