BEGIN:VCALENDAR
VERSION:2.0
BEGIN:VEVENT
STATUS:TENTATIVE
DTSTART:20181009T160000Z
DTEND:20181009T190000Z
SUMMARY:Criterios recientes de interés de los Tribunales Económico Administrativos
LOCATION:Hotel Bahía C/Cádiz, 22 Santander
DESCRIPTION:Jornada. 
END:VEVENT
END:VCALENDAR
