BEGIN:VCALENDAR
VERSION:2.0
BEGIN:VEVENT
STATUS:TENTATIVE
DTSTART:20181017T160000Z
DTEND:20181017T180000Z
SUMMARY:CUESTIONES POLÉMICAS EN EL IVA
LOCATION:Sede Central (Claudio Coello, 106 6º dcha)
DESCRIPTION:Jornada. Ponente: Francisco Javier Sánchez Gallardo, vocal del TEAC
END:VEVENT
END:VCALENDAR
