BEGIN:VCALENDAR
VERSION:2.0
BEGIN:VEVENT
STATUS:TENTATIVE
DTSTART:20181016T150000Z
DTEND:20181016T173000Z
SUMMARY:Situación actual del impuesto de plusvalía
LOCATION:HOTEL AYRE ASTORIA. Sala Ballesteros. Plaça de Rodrigo Botet, 5, 46002 Valencia
DESCRIPTION:Jornada. 
END:VEVENT
END:VCALENDAR
