BEGIN:VCALENDAR
VERSION:2.0
BEGIN:VEVENT
STATUS:TENTATIVE
DTSTART:20181026T070000Z
DTEND:20181026T113000Z
SUMMARY:Novedades en la normativa contable. Aspectos económico-financieros de los concursos de acreedores
LOCATION:Sede central AEDAF, C/ Claudio Coello, 106 - 6º Dcha. Madrid
DESCRIPTION:Jornada. 
END:VEVENT
END:VCALENDAR
