BEGIN:VCALENDAR
VERSION:2.0
BEGIN:VEVENT
STATUS:TENTATIVE
DTSTART:20181112T083000Z
DTEND:20181112T124500Z
SUMMARY:La empresa familiar: aspectos mercantiles y fiscales
LOCATION:Salón de Actos de la Facultad de Derecho, Universidad de Sevilla c/ Enramadilla, 18-20, Sevilla
DESCRIPTION:Jornada. 
END:VEVENT
END:VCALENDAR
