BEGIN:VCALENDAR
VERSION:2.0
BEGIN:VEVENT
STATUS:TENTATIVE
DTSTART:20181025T150000Z
DTEND:20181025T173000Z
SUMMARY:Aspectos fiscales del arrendamiento turístico y no turístico de viviendas: IRPF E IVA
LOCATION:HOTEL AYRE ASTORIA PALACE, Pl. Rodrigo Botet, 5, Valencia
DESCRIPTION:Jornada. 
END:VEVENT
END:VCALENDAR
