BEGIN:VCALENDAR
VERSION:2.0
BEGIN:VEVENT
STATUS:TENTATIVE
DTSTART:20181106T080000Z
DTEND:20181106T130000Z
SUMMARY:Jornada Los derechos del contribuyente ante la comprobación de valores de inmuebles, la Plusvalía Municipal y el proceso penal por Delito Fiscal
LOCATION:Sede Institucional Cajamar (Calle Triana,89 Las Palmas de Gran Canaria)
DESCRIPTION:Jornada. 
END:VEVENT
END:VCALENDAR
