BEGIN:VCALENDAR
VERSION:2.0
BEGIN:VEVENT
STATUS:TENTATIVE
DTSTART:20181115T093000Z
DTEND:20181115T123000Z
SUMMARY:La retribución de los administradores sociales: aspectos mercantiles, fiscales y laborales
LOCATION:Sede Central AEDAF.  C/ Claudio Coello, 106 - 6º Dcha. Madrid
DESCRIPTION:Jornada. 
END:VEVENT
END:VCALENDAR
