BEGIN:VCALENDAR
VERSION:2.0
BEGIN:VEVENT
STATUS:TENTATIVE
DTSTART:20181107T091500Z
DTEND:20181107T170000Z
SUMMARY:Jornada de la Sección del Impuesto sobre Sociedades
LOCATION:HOTEL AYRE ASTORIA PALACE, Pl. Rodrigo Botet, 5
DESCRIPTION:Jornada. 
END:VEVENT
END:VCALENDAR
