BEGIN:VCALENDAR
VERSION:2.0
BEGIN:VEVENT
STATUS:TENTATIVE
DTSTART:20181114T173000Z
DTEND:20181114T193000Z
SUMMARY:La importancia de la planificación en la gestión de un patrimonio
LOCATION:Colegio de Abogados de Zaragoza C/ Don Jaime I, 18 Salón Decanato.
DESCRIPTION:Jornada. 
END:VEVENT
END:VCALENDAR
