BEGIN:VCALENDAR
VERSION:2.0
BEGIN:VEVENT
STATUS:TENTATIVE
DTSTART:20190327T160000Z
DTEND:20190327T191500Z
SUMMARY:La prueba en los procedimientos tributarios y judiciales
LOCATION:Facultad de Derecho, Universidad de Murcia (Campus de la Merced, calle Santo Cristo, 1, Murcia). Sala de Juntas, en planta baja. Entrada por patio central
DESCRIPTION:Jornada. 
END:VEVENT
END:VCALENDAR
